BEGIN:VCALENDAR
VERSION:2.0
PRODID:-//ALEXARENDEL - ECPv4.9.3.2//NONSGML v1.0//EN
CALSCALE:GREGORIAN
METHOD:PUBLISH
X-WR-CALNAME:ALEXARENDEL
X-ORIGINAL-URL:https://alexarendel.hu
X-WR-CALDESC:Events for ALEXARENDEL
BEGIN:VEVENT
DTSTART;TZID=Europe/Budapest:20221016T170000
DTEND;TZID=Europe/Budapest:20221016T200000
DTSTAMP:20260419T174042
CREATED:20220830T080735Z
LAST-MODIFIED:20220830T090506Z
UID:8827-1665939600-1665950400@alexarendel.hu
SUMMARY:A csakrák és az érzelmek kölcsönös hatása
DESCRIPTION:Online 2022 október  16-án\, 17 óra \nAz érzelmek meghatározzák az életünket! \nA cselekedeteink mögött ott az érzelmi indíttatás! \nA jó hír\, hogy bár az érzelmek megbetegítenek\, meg is tudnak gyógyítani! \nHa ismerjük az összefüggéseket\, akkor át tudjuk venni az irányítást! \nE workshop célja: átvenni az irányítást az életünk fellett\, hogy ne a körülmények áldozatának érezzük magukat. \n  \n\nTematika: \n3  óra elmélet\, interaktív beszélgetés\n\n\naz adott csakra jellemzői– alap ismeretek\naz adott csakra hozzárendelt szervek\, funkciók\, életterületek\na kapcsolat a csakrák\, érzelmek\, életterületek és  egészség között\naz adott csakra és a hozzárendelt érzelmek\naz adott érzelmek feladatai\naz adott érzelmek használatáról: felismerés\, elismerés\, elfogadás\, kezelés\, elengedés\, megerősítés\ngyakorlatok\n\n\nHogyan legyőzni a félelmeket workshop keretében: \n\na félelem eredete\na félelem ereje\na félelem szerepe\nhogyan lehet legyőzni a félelmet\nmentális gyakorlatok\nfizikai gyakorlatok\n\nHogyan legyőzni a bűntudatot workshop keretében: \n\na bűntudat eredete\na bűntudat ereje\na bűntudat szerepe\nhogyan lehet legyőzni a bűntudatot\nmentális gyakorlatok\nfizikai gyakorlatok\n\nHogyan legyőzni a bosszúvágyat workshop keretében: \n\na bosszúvágy eredete\na bosszúvágy ereje\na bosszúvágy szerepe\nhogyan lehet legyőzni a bosszúvágy\nmentális gyakorlatok\nfizikai gyakorlatok\n\nHogyan legyőzni az önbizalom hiányát workshop keretében: \n\naz önbizalom eredete\naz önbizalom ereje\naz önbizalom szerepe\nhogyan lehet legyőzni az önbizalomhiányt \nmentális gyakorlatok\nfizikai gyakorlatok\n\n\n“Az érzelmek halmaza vagy \nÁltalános feltételek \n  \nMegveszem \n\n\n  \n\n\nBejelentkezés \n
URL:https://alexarendel.hu/event/a-csakrak-es-az-erzelmek-kolcsonos-hatasa-workshopegeszseges-erzelmek-alexarendel/
LOCATION:Online
CATEGORIES:Mentálhigiénia
ORGANIZER;CN="Alexarendel":MAILTO:info@alexarendel.hu
END:VEVENT
END:VCALENDAR