BEGIN:VCALENDAR
VERSION:2.0
PRODID:-//ALEXARENDEL - ECPv4.9.3.2//NONSGML v1.0//EN
CALSCALE:GREGORIAN
METHOD:PUBLISH
X-WR-CALNAME:ALEXARENDEL
X-ORIGINAL-URL:https://alexarendel.hu
X-WR-CALDESC:Events for ALEXARENDEL
BEGIN:VEVENT
DTSTART;TZID=Europe/Budapest:20200929T190000
DTEND;TZID=Europe/Budapest:20200929T210000
DTSTAMP:20260420T014357
CREATED:20200218T095803Z
LAST-MODIFIED:20200717T171052Z
UID:5722-1601406000-1601413200@alexarendel.hu
SUMMARY:Elme tréning
DESCRIPTION:Tudtad\, hogy a test\, az elme és a lélek aszerint működnek\, ahogyan szoktatod őket? \nTudtad\, hogy a testre\, az elmére és a lélekre jellemző az\, hogy elkényelmesednek? \nAz Elme Tréning workshop célja az\, hogy átszoktassuk az elmét arra\, hogy úgy működjön\, hogy minket szolgáljon. \nAz Elmetréning workshop alkalmával megtanult villámtechnikát használhatod az életed összes területén. \nGyere el és megtanítalak hogyan! \nIdőpont: Szeptember 29\, 19 óra \nHelyszín: Online \nÁr: 9 900 Ft \n  \nBejelentkezem a workshopra \nHelyszín: Online \n
URL:https://alexarendel.hu/event/elme-trening-workshop-megerositesek-tudatossag-gyakorlat-egeszseg-alexarendel/
LOCATION:Online\, Skype
CATEGORIES:Mentálhigiénia
ATTACH;FMTTYPE=image/jpeg:https://alexarendel.hu/wp-content/uploads/2020/05/Alexarendel.hu-5.jpg
ORGANIZER;CN="Alexarendel":MAILTO:info@alexarendel.hu
END:VEVENT
END:VCALENDAR