BEGIN:VCALENDAR
VERSION:2.0
PRODID:-//ALEXARENDEL - ECPv4.9.3.2//NONSGML v1.0//EN
CALSCALE:GREGORIAN
METHOD:PUBLISH
X-WR-CALNAME:ALEXARENDEL
X-ORIGINAL-URL:https://alexarendel.hu
X-WR-CALDESC:Events for ALEXARENDEL
BEGIN:VEVENT
DTSTART;TZID=Europe/Budapest:20250405T100000
DTEND;TZID=Europe/Budapest:20250405T170000
DTSTAMP:20260421T200839
CREATED:20250315T102223Z
LAST-MODIFIED:20250326T062548Z
UID:34445-1743847200-1743872400@alexarendel.hu
SUMMARY:Funkcionális Mandala festő workshop
DESCRIPTION:Mit jelent a mandala? \nAzt\, amit neked. \nMire való a mandala? \nAzt\, amire te használod. \nMi a workshop célja? \nAz 7 órás mandala festő workshop fő célja az\, hogy segít kidolgozni és feloldani magadból a téged gátló mintákat és blokkokat\, az őszinteség és az önazonosulás jegyében\, illetve\, a saját szimbólum és információs rendszer megismerése\, hasznosítása és beépítése. \nEz egy örök eszköz\, amit önállóan tudsz alkalmazni\, mert ezzel a technikával és a hozzáadott ideológiával festett mandala\, emlékeztet téged arra\, amit el akarsz érni\, vagy meg akarsz oldani. \nA mandala energiát jelent\, amely tölt és erőt ad az önmegvalósításhoz. \nA  funkcionális mandalát megerősítésként használjuk. Megfestjük a megfelelő üzenetet\, ami arra emlékeztet\, hogy hova akarunk eljutni. Ez által megmarad a fókusz\, megkönnyítve a megvalósulást. \nHa van egy vágyad\, de nehezen tudsz rá fókuszálni\, a mandala megoldás lehet számodra is. \n
URL:https://alexarendel.hu/event/funkcionalis-mandala-festo-worshop-funkcionalis-kepek-megerositesek-csakrak-energia-eletteruletek-alexarendel/
LOCATION:Budafoki út 12\, Budapest 1111\, Magyarország\, Kávébab Kávézó\, Budapest\, 1111\, Magyarország
CATEGORIES:Mentálhigiénia
ATTACH;FMTTYPE=image/jpeg:https://alexarendel.hu/wp-content/uploads/2025/03/alexarendel-mandalafestés-foglalkozás_alexarendel.hu_.jpg
ORGANIZER;CN="Alexarendel":MAILTO:info@alexarendel.hu
END:VEVENT
END:VCALENDAR